BEGIN:VCALENDAR
VERSION:2.0
PRODID:-//McKinney Center - ECPv6.15.20//NONSGML v1.0//EN
CALSCALE:GREGORIAN
METHOD:PUBLISH
X-ORIGINAL-URL:https://mckinneycenter.com
X-WR-CALDESC:Events for McKinney Center
REFRESH-INTERVAL;VALUE=DURATION:PT1H
X-Robots-Tag:noindex
X-PUBLISHED-TTL:PT1H
BEGIN:VTIMEZONE
TZID:America/New_York
BEGIN:DAYLIGHT
TZOFFSETFROM:-0500
TZOFFSETTO:-0400
TZNAME:EDT
DTSTART:20240310T070000
END:DAYLIGHT
BEGIN:STANDARD
TZOFFSETFROM:-0400
TZOFFSETTO:-0500
TZNAME:EST
DTSTART:20241103T060000
END:STANDARD
BEGIN:DAYLIGHT
TZOFFSETFROM:-0500
TZOFFSETTO:-0400
TZNAME:EDT
DTSTART:20250309T070000
END:DAYLIGHT
BEGIN:STANDARD
TZOFFSETFROM:-0400
TZOFFSETTO:-0500
TZNAME:EST
DTSTART:20251102T060000
END:STANDARD
BEGIN:DAYLIGHT
TZOFFSETFROM:-0500
TZOFFSETTO:-0400
TZNAME:EDT
DTSTART:20260308T070000
END:DAYLIGHT
BEGIN:STANDARD
TZOFFSETFROM:-0400
TZOFFSETTO:-0500
TZNAME:EST
DTSTART:20261101T060000
END:STANDARD
END:VTIMEZONE
BEGIN:VEVENT
DTSTART;VALUE=DATE:20250517
DTEND;VALUE=DATE:20250518
DTSTAMP:20260423T042602
CREATED:20250215T061219Z
LAST-MODIFIED:20250517T095746Z
UID:6649-1747440000-1747526399@mckinneycenter.com
SUMMARY:McKinney Center Summer Camp Deadline
DESCRIPTION:McKinney Center’s Summer Camp Registration deadline is today! Register at McKinneyCenter.com
URL:https://mckinneycenter.com/event/mckinney-center-summer-camp-deadline/
LOCATION:McKinney Center at Booker T. Washington School\, 103 Franklin Ave\, Jonesborough\, TN\, United States
END:VEVENT
END:VCALENDAR