BEGIN:VCALENDAR
VERSION:2.0
PRODID:-//McKinney Center - ECPv6.15.20//NONSGML v1.0//EN
CALSCALE:GREGORIAN
METHOD:PUBLISH
X-ORIGINAL-URL:https://mckinneycenter.com
X-WR-CALDESC:Events for McKinney Center
REFRESH-INTERVAL;VALUE=DURATION:PT1H
X-Robots-Tag:noindex
X-PUBLISHED-TTL:PT1H
BEGIN:VTIMEZONE
TZID:America/New_York
BEGIN:DAYLIGHT
TZOFFSETFROM:-0500
TZOFFSETTO:-0400
TZNAME:EDT
DTSTART:20240310T070000
END:DAYLIGHT
BEGIN:STANDARD
TZOFFSETFROM:-0400
TZOFFSETTO:-0500
TZNAME:EST
DTSTART:20241103T060000
END:STANDARD
BEGIN:DAYLIGHT
TZOFFSETFROM:-0500
TZOFFSETTO:-0400
TZNAME:EDT
DTSTART:20250309T070000
END:DAYLIGHT
BEGIN:STANDARD
TZOFFSETFROM:-0400
TZOFFSETTO:-0500
TZNAME:EST
DTSTART:20251102T060000
END:STANDARD
BEGIN:DAYLIGHT
TZOFFSETFROM:-0500
TZOFFSETTO:-0400
TZNAME:EDT
DTSTART:20260308T070000
END:DAYLIGHT
BEGIN:STANDARD
TZOFFSETFROM:-0400
TZOFFSETTO:-0500
TZNAME:EST
DTSTART:20261101T060000
END:STANDARD
END:VTIMEZONE
BEGIN:VEVENT
DTSTART;TZID=America/New_York:20250508T180000
DTEND;TZID=America/New_York:20250508T190000
DTSTAMP:20260419T111211
CREATED:20241113T012715Z
LAST-MODIFIED:20250508T092719Z
UID:6241-1746727200-1746730800@mckinneycenter.com
SUMMARY:Ms. Brown's End of the Year Program 2025
DESCRIPTION:More information to come. \nStudent artwork from the Spring 2025 semester will be on display.\nMcKinneyCenter.com
URL:https://mckinneycenter.com/event/ms-browns-end-of-the-year-program-2025/
LOCATION:McKinney Center at Booker T. Washington School\, 103 Franklin Ave\, Jonesborough\, TN\, United States
END:VEVENT
END:VCALENDAR